BEGIN:VCALENDAR
VERSION:2.0
PRODID:-//eventon.com NONSGML v1.0//EN
BEGIN:VEVENT
UID:69ecae29f1a29
DTSTAMP:20260425T140601
DTSTART:20250423T070000Z
DTEND:20250424T153000Z
LOCATION:Hotel 5* Intercontinental Marseille 
SUMMARY:MAITRISER LA PRATIQUE DE LA TELESANTE DANS LE RESPECT DES REGLES DE SECURITE ET DE BONNES PRATIQUES (PLURIPRO) 92592325005
DESCRIPTION: MAITRISER LA PRATIQUE DE LA TELESANTE DANS LE RESPECT DES REGLES DE SECURITE ET DE BONNES PRATIQUES (PLURIPRO) 92592325005
END:VEVENT
END:VCALENDAR