BEGIN:VCALENDAR
VERSION:2.0
PRODID:-//eventon.com NONSGML v1.0//EN
BEGIN:VEVENT
UID:69ed5d54da76e
DTSTAMP:20260426T023324
DTSTART:20250521T070000Z
DTEND:20250522T153000Z
LOCATION:Hotel 5* Intercontinental Marseille 
SUMMARY:PREPARATION ET ORGANISATION COORD DE LA REPONSE AUX SITUATIONS SANITAIRES EXCEPTIONNELLES (SSE) ET PEC DES VICTIMES INDUITES (PLURIPRO) 92592325009
DESCRIPTION: PREPARATION ET ORGANISATION COORD DE LA REPONSE AUX SITUATIONS SANITAIRES EXCEPTIONNELLES (SSE) ET PEC DES VICTIMES INDUITES (PLURIPRO) 92592325009
END:VEVENT
END:VCALENDAR